BEGIN:VCALENDAR
VERSION:2.0
PRODID:-//ESH - ECPv4.0.5//NONSGML v1.0//EN
CALSCALE:GREGORIAN
METHOD:PUBLISH
X-WR-CALNAME:ESH
X-ORIGINAL-URL:https://www.esh.fr
X-WR-CALDESC:Events for ESH
BEGIN:VEVENT
DTSTART;TZID="UTC+1":20170918T090000
DTEND;TZID="UTC+1":20170919T170000
DTSTAMP:20260421T085521
CREATED:20161201T092100
LAST-MODIFIED:20170207T163619
UID:18196-1505725200-1505840400@www.esh.fr
SUMMARY:Maitriser les spécificités de la gestion comptable et financière des esh
DESCRIPTION:Formation sur : 2 jours. Organisme de formation : LOSFOR
URL:https://www.esh.fr/esh\-agenda/maitriser-les-specificites-de-la-gestion-comptable-et-financiere-des-esh-4/
CATEGORIES:Formations
END:VEVENT
END:VCALENDAR