BEGIN:VCALENDAR
VERSION:2.0
PRODID:-//ESH - ECPv4.0.5//NONSGML v1.0//EN
CALSCALE:GREGORIAN
METHOD:PUBLISH
X-WR-CALNAME:ESH
X-ORIGINAL-URL:https://www.esh.fr
X-WR-CALDESC:Events for ESH
BEGIN:VEVENT
DTSTART;TZID="Europe/Paris":20260923T090000
DTEND;TZID="Europe/Paris":20260923T190000
DTSTAMP:20260422T095336
CREATED:20260102T141724
LAST-MODIFIED:20260102T141724
UID:33058-1790154000-1790190000@www.esh.fr
SUMMARY:86ème Congrès HLM 2026
DESCRIPTION:Parc des Expositions de Bordeaux
URL:https://www.esh.fr/esh\-agenda/86eme-congres-hlm-2026-2/
CATEGORIES:Autres événements
END:VEVENT
END:VCALENDAR