BEGIN:VCALENDAR
VERSION:2.0
PRODID:-//ESH - ECPv4.0.5//NONSGML v1.0//EN
CALSCALE:GREGORIAN
METHOD:PUBLISH
X-WR-CALNAME:ESH
X-ORIGINAL-URL:https://www.esh.fr
X-WR-CALDESC:Events for ESH
BEGIN:VEVENT
DTSTART;TZID="Europe/Paris":20260624T100000
DTEND;TZID="Europe/Paris":20260624T160000
DTSTAMP:20260422T045925
CREATED:20251106T144945
LAST-MODIFIED:20251107T085056
UID:32984-1782295200-1782316800@www.esh.fr
SUMMARY:15èmes Rencontres du FIS
DESCRIPTION:
URL:https://www.esh.fr/esh\-agenda/15emes-rencontres-fis/
CATEGORIES:Evénements fédéraux
END:VEVENT
END:VCALENDAR