BEGIN:VCALENDAR
VERSION:2.0
PRODID:-//ESH - ECPv4.0.5//NONSGML v1.0//EN
CALSCALE:GREGORIAN
METHOD:PUBLISH
X-WR-CALNAME:ESH
X-ORIGINAL-URL:https://www.esh.fr
X-WR-CALDESC:Events for ESH
BEGIN:VEVENT
DTSTART;TZID="Europe/Paris":20260604T090000
DTEND;TZID="Europe/Paris":20260604T130000
DTSTAMP:20260422T045919
CREATED:20251106T134854
LAST-MODIFIED:20251106T134854
UID:32981-1780563600-1780578000@www.esh.fr
SUMMARY:3ème session du Comité de Sélection des Projets 2026
DESCRIPTION:
URL:https://www.esh.fr/esh\-agenda/3eme-session-comite-de-selection-projets-2026/
CATEGORIES:Evénements fédéraux
END:VEVENT
END:VCALENDAR