BEGIN:VCALENDAR
VERSION:2.0
PRODID:-//ESH - ECPv4.0.5//NONSGML v1.0//EN
CALSCALE:GREGORIAN
METHOD:PUBLISH
X-WR-CALNAME:ESH
X-ORIGINAL-URL:https://www.esh.fr
X-WR-CALDESC:Events for ESH
BEGIN:VEVENT
DTSTART;TZID="Europe/Paris":20260519T090000
DTEND;TZID="Europe/Paris":20260519T170000
DTSTAMP:20260422T032025
CREATED:20251125T142910
LAST-MODIFIED:20260303T100109
UID:33006-1779181200-1779210000@www.esh.fr
SUMMARY:Journée professionnelle RSE à la ferme urbaine (Plantation Paris)
DESCRIPTION:37 Rue des Cheminots\, 75018 Paris
URL:https://www.esh.fr/esh\-agenda/journee-professionnelle-rse/
CATEGORIES:Evénements fédéraux
END:VEVENT
END:VCALENDAR