BEGIN:VCALENDAR
VERSION:2.0
PRODID:-//ESH - ECPv4.0.5//NONSGML v1.0//EN
CALSCALE:GREGORIAN
METHOD:PUBLISH
X-WR-CALNAME:ESH
X-ORIGINAL-URL:https://www.esh.fr
X-WR-CALDESC:Events for ESH
BEGIN:VEVENT
DTSTART;TZID="Europe/Paris":20260505T120000
DTEND;TZID="Europe/Paris":20260505T120000
DTSTAMP:20260422T031944
CREATED:20251106T134349
LAST-MODIFIED:20251106T134349
UID:32976-1777982400-1777982400@www.esh.fr
SUMMARY:Date de clôture de réception des dossiers le 5 mai 2026 à 12h pour le CSP du Jeudi 4 juin 2026
DESCRIPTION:
URL:https://www.esh.fr/esh\-agenda/date-de-cloture-de-reception-dossiers-5-mai-2026-a-12h-csp-jeudi-4-juin-2026/
CATEGORIES:Evénements fédéraux
END:VEVENT
END:VCALENDAR