BEGIN:VCALENDAR
VERSION:2.0
PRODID:-//ESH - ECPv4.0.5//NONSGML v1.0//EN
CALSCALE:GREGORIAN
METHOD:PUBLISH
X-WR-CALNAME:ESH
X-ORIGINAL-URL:https://www.esh.fr
X-WR-CALDESC:Events for ESH
BEGIN:VEVENT
DTSTART;TZID="Europe/Paris":20260205T090000
DTEND;TZID="Europe/Paris":20260205T130000
DTSTAMP:20260421T225526
CREATED:20251106T134726
LAST-MODIFIED:20251106T134726
UID:32979-1770282000-1770296400@www.esh.fr
SUMMARY:1ère session du Comité de Sélection des Projets 2026
DESCRIPTION:
URL:https://www.esh.fr/esh\-agenda/1ere-session-comite-de-selection-projets-2026/
CATEGORIES:Evénements fédéraux
END:VEVENT
END:VCALENDAR