BEGIN:VCALENDAR
VERSION:2.0
PRODID:-//ESH - ECPv4.0.5//NONSGML v1.0//EN
CALSCALE:GREGORIAN
METHOD:PUBLISH
X-WR-CALNAME:ESH
X-ORIGINAL-URL:https://www.esh.fr
X-WR-CALDESC:Events for ESH
BEGIN:VEVENT
DTSTART;TZID="Europe/Paris":20260203T090000
DTEND;TZID="Europe/Paris":20260203T170000
DTSTAMP:20260421T225536
CREATED:20251125T143150
LAST-MODIFIED:20260102T141043
UID:33007-1770109200-1770138000@www.esh.fr
SUMMARY:Journée professionnelle Nouveaux Services
DESCRIPTION:Au « CYCLONE\, le Studio »\, 16 rue Vulpian\, 75013 Paris
URL:https://www.esh.fr/esh\-agenda/journee-professionnelle-nouveaux-services/
CATEGORIES:Evénements fédéraux
END:VEVENT
END:VCALENDAR