BEGIN:VCALENDAR
VERSION:2.0
PRODID:-//ESH - ECPv4.0.5//NONSGML v1.0//EN
CALSCALE:GREGORIAN
METHOD:PUBLISH
X-WR-CALNAME:ESH
X-ORIGINAL-URL:https://www.esh.fr
X-WR-CALDESC:Events for ESH
BEGIN:VEVENT
DTSTART;TZID="Europe/Paris":20260128T130000
DTEND;TZID="Europe/Paris":20260128T180000
DTSTAMP:20260421T212210
CREATED:20251202T090749
LAST-MODIFIED:20251202T090852
UID:33018-1769605200-1769623200@www.esh.fr
SUMMARY:Rencontres des esh à la Maison de la Mutualité
DESCRIPTION:24 Rue Saint Victor\, 75005 Paris
URL:https://www.esh.fr/esh\-agenda/rencontres-esh-a-maison-de-mutualite/
CATEGORIES:Evénements fédéraux
END:VEVENT
END:VCALENDAR