BEGIN:VCALENDAR
VERSION:2.0
PRODID:-//ESH - ECPv4.0.5//NONSGML v1.0//EN
CALSCALE:GREGORIAN
METHOD:PUBLISH
X-WR-CALNAME:ESH
X-ORIGINAL-URL:https://www.esh.fr
X-WR-CALDESC:Events for ESH
BEGIN:VEVENT
DTSTART;TZID="Europe/Paris":20251118T100000
DTEND;TZID="Europe/Paris":20251120T120000
DTSTAMP:20260421T183346
CREATED:20251107T124540
LAST-MODIFIED:20251107T124540
UID:32989-1763460000-1763640000@www.esh.fr
SUMMARY:Salon des maires (Porte de Versailles\, Pavillon 4\, stand B99)
DESCRIPTION:
URL:https://www.esh.fr/esh\-agenda/salon-maires-porte-de-versailles-pavillon-4-stand-b99/
CATEGORIES:Autres événements
END:VEVENT
END:VCALENDAR