BEGIN:VCALENDAR
VERSION:2.0
PRODID:-//ESH - ECPv4.0.5//NONSGML v1.0//EN
CALSCALE:GREGORIAN
METHOD:PUBLISH
X-WR-CALNAME:ESH
X-ORIGINAL-URL:https://www.esh.fr
X-WR-CALDESC:Events for ESH
BEGIN:VEVENT
DTSTART;TZID="Europe/Paris":20250923T090000
DTEND;TZID="Europe/Paris":20250925T170000
DTSTAMP:20260421T153103
CREATED:20241011T130920
LAST-MODIFIED:20250415T125050
UID:31949-1758618000-1758819600@www.esh.fr
SUMMARY:85ème Congrès HLM de l'USH à Paris au Parc des Expositions de Paris "Porte de Versailles"
DESCRIPTION:
URL:https://www.esh.fr/esh\-agenda/85eme-congres-hlm-de-lush-parc-expositions-de-paris-porte-de-versailles/
CATEGORIES:Autres événements
END:VEVENT
END:VCALENDAR