BEGIN:VCALENDAR
VERSION:2.0
PRODID:-//ESH - ECPv4.0.5//NONSGML v1.0//EN
CALSCALE:GREGORIAN
METHOD:PUBLISH
X-WR-CALNAME:ESH
X-ORIGINAL-URL:https://www.esh.fr
X-WR-CALDESC:Events for ESH
BEGIN:VEVENT
DTSTART;TZID="Europe/Paris":20250505T090000
DTEND;TZID="Europe/Paris":20250505T120000
DTSTAMP:20260421T090201
CREATED:20250207T095513
LAST-MODIFIED:20250304T110208
UID:32203-1746435600-1746446400@www.esh.fr
SUMMARY:Tournée régionale premier semestre 2025 de la Présidente à l'Hôtel Radisson de Bordeaux
DESCRIPTION:Hôtel Radisson\, Gare St Jean\n\n13 rue des Gamins 33000 Bordeaux
URL:https://www.esh.fr/esh\-agenda/tournee-regionale-premier-semestre-2025-de-presidente-a-bordeaux/
CATEGORIES:Evénements fédéraux
END:VEVENT
BEGIN:VEVENT
DTSTART;TZID="Europe/Paris":20250505T160000
DTEND;TZID="Europe/Paris":20250505T190000
DTSTAMP:20260421T090201
CREATED:20250207T095637
LAST-MODIFIED:20250304T110130
UID:32204-1746460800-1746471600@www.esh.fr
SUMMARY:Tournée régionale premier semestre 2025 de la Présidente à l'Hôtel NH de Toulouse
DESCRIPTION:Hôtel NH\, Aéroport de Toulouse Blagnac\n\n15 rue Charles Lindberg\, 31700 Toulouse
URL:https://www.esh.fr/esh\-agenda/tournee-regionale-premier-semestre-2025-de-presidente-a-toulouse/
CATEGORIES:Evénements fédéraux
END:VEVENT
END:VCALENDAR